BEGIN:VCALENDAR
VERSION:2.0
PRODID:-//wp-events-plugin.com//7.2.2.1//EN
TZID:Europe/Berlin
X-WR-TIMEZONE:Europe/Berlin
BEGIN:VEVENT
UID:213@nordweststern.de
DTSTART;TZID=Europe/Berlin:20260423T183000
DTEND;TZID=Europe/Berlin:20260423T220000
DTSTAMP:20260419T180817Z
URL:https://nordweststern.de/events/linke-perspektiven-in-israel/
SUMMARY:Linke Perspektiven in Israel (mit Gil Shohat)
DESCRIPTION:Linke Perspektiven in Israel!\n\nDie Kriegspolitik Israels mani
 festiert sich aktuell in den zerstörerischen Angriffen gegen den Iran und
  den Libanon. Seit dem Massaker der Hamas am 7. Oktober 2023 hat das Vorge
 hen der israelischen Regierung und Armee zehntausenden Palästinenser*inne
 n und Libanes*innen\, vor allem Frauen und Kindern\, das Leben gekostet un
 d ganze Bevölkerungsgruppen schutz- und obdachlos gemacht. Zu Recht sprec
 hen zahlreiche Menschenrechtsorganisationen und Genozid-Forscher*innen in 
 diesem Zusammenhang von Völkermord an den Palästinenser*innen im Gazastr
 eifen.\n\nEin gerechter Frieden in Israel und Palästina scheint heute in 
 weite Ferne gerückt. Dennoch: Auch in Israel halten progressive jüdische
  und palästinensische Aktivist*innen weiter an genau dieser Perspektive f
 est. Allen Widerständen zum Trotz und gerade in Zeiten der Zerstörung un
 d der Dehumanisierung streiten sie für jüdisch-palästinensische Solidar
 ität\, für ein gemeinsames Leben auf Augenhöhe und in Würde für alle 
 Menschen zwischen Jordan und Mittelmeer.\n\nDer Historiker Gil Shohat anal
 ysiert in seinem Vortrag die unterschiedlichen Strömungen und internen st
 rategischen Dilemmata und massiven Herausforderungen linker Akteur*innen i
 n Israel und bettet sie ein in die militarisierte und immer weiter nach re
 chts entwickelte gesellschaftliche und innenpolitische Situation im Land. 
 Nach dem Vortrag wird es Raum für Fragen und Diskussion geben. Vorwissen 
 ist nicht nötig.\n\nReferent: Gil Shohat\n(Leiter des Israel-Büros der R
 osa-Luxemburg-Stiftung in Tel Aviv)\nDu hast vorab schon Fragen zur Verans
 taltung oder an den Referenten Gil Shohat? Dann stell sie gern hier in uns
 erer Umfrage: https://gleft.de/6yP\nText: Die Linke Leipzig
ATTACH;FMTTYPE=image/jpeg:https://nordweststern.de/wp-content/uploads/2026
 /04/nws_linke-perspektiven-in-israel_sharepic.png
CATEGORIES:Highlights,X-1 – Im Widget anzeigen
LOCATION:NordWest Stern e.V.\, Georg-Schumann-Straße 126\, Leipzig\, 04155
 \, Deutschland
X-APPLE-STRUCTURED-LOCATION;VALUE=URI;X-ADDRESS=Georg-Schumann-Straße 126\
 , Leipzig\, 04155\, Deutschland;X-APPLE-RADIUS=100;X-TITLE=NordWest Stern 
 e.V.:geo:0,0
END:VEVENT
BEGIN:VTIMEZONE
TZID:Europe/Berlin
X-LIC-LOCATION:Europe/Berlin
BEGIN:DAYLIGHT
DTSTART:20260329T030000
TZOFFSETFROM:+0100
TZOFFSETTO:+0200
TZNAME:CEST
END:DAYLIGHT
END:VTIMEZONE
END:VCALENDAR